{
 "currentVersion": 11.1,
 "cimVersion": "3.1.0",
 "serviceDescription": "",
 "mapName": "Symbologie map",
 "description": "",
 "copyrightText": "",
 "supportsDynamicLayers": false,
 "layers": [
  {
   "id": 0,
   "name": "Gemiddelde laagste grondwaterstand huidig Regio",
   "parentLayerId": -1,
   "defaultVisibility": true,
   "subLayerIds": null,
   "minScale": 0,
   "maxScale": 0,
   "type": "Raster Layer",
   "supportsDynamicLegends": true
  }
 ],
 "tables": [],
 "spatialReference": {
  "wkid": 28992,
  "latestWkid": 28992,
  "xyTolerance": 0.001,
  "zTolerance": 0.001,
  "mTolerance": 0.001,
  "falseX": -30515500,
  "falseY": -30279500,
  "xyUnits": 10000,
  "falseZ": -100000,
  "zUnits": 10000,
  "falseM": -100000,
  "mUnits": 10000
 },
 "singleFusedMapCache": true,
 "tileInfo": {
  "rows": 256,
  "cols": 256,
  "dpi": 96,
  "format": "Mixed",
  "compressionQuality": 75,
  "origin": {
   "x": -3.0540820759862777E7,
   "y": 3.111228438406131E7
  },
  "spatialReference": {
   "wkid": 28992,
   "latestWkid": 28992,
   "xyTolerance": 0.001,
   "zTolerance": 0.001,
   "mTolerance": 0.001,
   "falseX": -30515500,
   "falseY": -30279500,
   "xyUnits": 10000,
   "falseZ": -100000,
   "zUnits": 10000,
   "falseM": -100000,
   "mUnits": 10000
  },
  "lods": [
   {
    "level": 0,
    "resolution": 239811.099686428,
    "scale": 9.063726602321688E8
   },
   {
    "level": 1,
    "resolution": 119905.549843214,
    "scale": 4.531863301160844E8
   },
   {
    "level": 2,
    "resolution": 59952.774921607,
    "scale": 2.265931650580422E8
   },
   {
    "level": 3,
    "resolution": 29976.3874608035,
    "scale": 1.132965825290211E8
   },
   {
    "level": 4,
    "resolution": 14988.19373040175,
    "scale": 5.664829126451055E7
   },
   {
    "level": 5,
    "resolution": 7494.096865200875,
    "scale": 2.8324145632255275E7
   },
   {
    "level": 6,
    "resolution": 3747.0484326004375,
    "scale": 1.4162072816127637E7
   },
   {
    "level": 7,
    "resolution": 1873.5242163002188,
    "scale": 7081036.408063819
   },
   {
    "level": 8,
    "resolution": 936.7621081501094,
    "scale": 3540518.2040319094
   },
   {
    "level": 9,
    "resolution": 468.3810540750547,
    "scale": 1770259.1020159547
   },
   {
    "level": 10,
    "resolution": 234.19052703752735,
    "scale": 885129.5510079773
   },
   {
    "level": 11,
    "resolution": 117.09526351876367,
    "scale": 442564.77550398867
   },
   {
    "level": 12,
    "resolution": 58.54763175938184,
    "scale": 221282.38775199433
   },
   {
    "level": 13,
    "resolution": 29.27381587969092,
    "scale": 110641.19387599717
   },
   {
    "level": 14,
    "resolution": 14.63690793984546,
    "scale": 55320.59693799858
   },
   {
    "level": 15,
    "resolution": 7.31845396992273,
    "scale": 27660.29846899929
   },
   {
    "level": 16,
    "resolution": 3.659226984961365,
    "scale": 13830.149234499646
   },
   {
    "level": 17,
    "resolution": 1.8296134924806824,
    "scale": 6915.074617249823
   },
   {
    "level": 18,
    "resolution": 0.9148067462403412,
    "scale": 3457.5373086249115
   }
  ]
 },
 "storageInfo": {
  "storageFormat": "esriMapCacheStorageModeCompactV2",
  "packetSize": 128
 },
 "initialExtent": {
  "xmin": 78973.0922578401,
  "ymin": 419328.37025187374,
  "xmax": 135821.10376232103,
  "ymax": 473632.2577847035,
  "spatialReference": {
   "wkid": 28992,
   "latestWkid": 28992,
   "xyTolerance": 0.001,
   "zTolerance": 0.001,
   "mTolerance": 0.001,
   "falseX": -30515500,
   "falseY": -30279500,
   "xyUnits": 10000,
   "falseZ": -100000,
   "zUnits": 10000,
   "falseM": -100000,
   "mUnits": 10000
  }
 },
 "fullExtent": {
  "xmin": 96515.03400000185,
  "ymin": 433683.1429999992,
  "xmax": 119969.66200000184,
  "ymax": 459508.2429999992,
  "spatialReference": {
   "wkid": 28992,
   "latestWkid": 28992,
   "xyTolerance": 0.001,
   "zTolerance": 0.001,
   "mTolerance": 0.001,
   "falseX": -30515500,
   "falseY": -30279500,
   "xyUnits": 10000,
   "falseZ": -100000,
   "zUnits": 10000,
   "falseM": -100000,
   "mUnits": 10000
  }
 },
 "datesInUnknownTimezone": false,
 "units": "esriMeters",
 "supportedImageFormatTypes": "PNG32,PNG24,PNG,JPG,DIB,TIFF,EMF,PS,PDF,GIF,SVG,SVGZ,BMP",
 "documentInfo": {
  "Title": "P:\\Blizdata\\Duurzaamheid\\Klimaatadaptatie\\Regionale Stresstesten\\Regionale Stresstesten.aprx",
  "Author": "",
  "Comments": "",
  "Subject": "",
  "Category": "",
  "Version": "3.1.0",
  "AntialiasingMode": "None",
  "TextAntialiasingMode": "Force",
  "Keywords": ""
 },
 "supportedQueryFormats": "JSON, geoJSON, PBF",
 "referenceScale": 0.0,
 "datumTransformations": [
  {
   "geoTransforms": [
    {
     "wkid": 108042,
     "latestWkid": 108042,
     "transformForward": false,
     "name": "Amersfoort_To_WGS_1984_NTv2"
    }
   ]
  },
  {
   "geoTransforms": [
    {
     "wkid": 108042,
     "latestWkid": 108042,
     "transformForward": true,
     "name": "Amersfoort_To_WGS_1984_NTv2"
    }
   ]
  }
 ],
 "supportsDatumTransformation": true,
 "floorAwareMapProperties": {
  "defaultFloorFilterSettings": {
   "isEnabled": false
  }
 },
 "archivingInfo": {
  "supportsHistoricMoment": false
 },
 "supportsClipping": true,
 "supportsSpatialFilter": true,
 "supportsTimeRelation": true,
 "supportsQueryDataElements": true,
 "mapUnits": {
  "uwkid": 9001
 },
 "maxRecordCount": 1000,
 "maxImageHeight": 4096,
 "maxImageWidth": 4096,
 "capabilities": "TilesOnly,Tilemap",
 "minScale": 221282,
 "maxScale": 6915,
 "exportTilesAllowed": false,
 "maxExportTilesCount": 100000,
 "minLOD": 12,
 "maxLOD": 17,
 "supportedExtensions": "",
 "serviceItemId": "cad8449dd49e46eb9a025539f019cb64"
}
